BEGIN:VCALENDAR
VERSION:2.0
PRODID:-//ddaysoftware.com//NONSGML DDay.iCal 1.0//EN
BEGIN:VTIMEZONE
TZID:W. Europe Standard Time
BEGIN:STANDARD
DTSTART:20251002T030000
RRULE:FREQ=YEARLY;BYDAY=-1SU;BYHOUR=3;BYMINUTE=0;BYMONTH=10
TZNAME:W. Europe Standard Time
TZOFFSETFROM:+0200
TZOFFSETTO:+0100
END:STANDARD
BEGIN:DAYLIGHT
DTSTART:20250301T020000
RRULE:FREQ=YEARLY;BYDAY=-1SU;BYHOUR=2;BYMINUTE=0;BYMONTH=3
TZNAME:W. Europe Daylight Time
TZOFFSETFROM:+0100
TZOFFSETTO:+0200
END:DAYLIGHT
END:VTIMEZONE
BEGIN:VEVENT
CATEGORIES:Trachtenkultur
CATEGORIES:Kultur
CATEGORIES:Seminare und Kurse
DESCRIPTION:Zierkragen einer festlichen Tracht\n\nVeranstalter: Trachtenkul
 tur-Beratung Bezirk Schwaben\n\nhttps://trachten.bezirk-schwaben.de/aktuel
 les-presse/alle-veranstaltungen/abgesagt-goller-kurs-k21-16
DTEND:20210517T180000
DTSTAMP:20260421T193606Z
DTSTART:20210517T100000
LOCATION:Trachtenkultur-Beratung des Bezirks Schwaben\, Landauer Haus: Hürb
 ener Str. 15\, 86381 Krumbach
SEQUENCE:0
SUMMARY:(ABGESAGT) Goller (Kurs K21-16) 
UID:38462
URL:https://trachten.bezirk-schwaben.de/aktuelles-presse/alle-veranstaltung
 en/abgesagt-goller-kurs-k21-16
END:VEVENT
END:VCALENDAR
